BEGIN:VCALENDAR
VERSION:2.0
PRODID:-//The METAL SLAVE / ザ メタル スレイブ - ECPv5.12.3//NONSGML v1.0//EN
CALSCALE:GREGORIAN
METHOD:PUBLISH
X-WR-CALNAME:The METAL SLAVE / ザ メタル スレイブ
X-ORIGINAL-URL:http://the-metal-slave.xn--eckrj8esee5k6c.com
X-WR-CALDESC:Events for The METAL SLAVE / ザ メタル スレイブ
REFRESH-INTERVAL;VALUE=DURATION:PT1H
X-Robots-Tag:noindex
X-PUBLISHED-TTL:PT1H
BEGIN:VTIMEZONE
TZID:Asia/Tokyo
BEGIN:STANDARD
TZOFFSETFROM:+0900
TZOFFSETTO:+0900
TZNAME:JST
DTSTART:20220101T000000
END:STANDARD
END:VTIMEZONE
BEGIN:VEVENT
DTSTART;TZID=Asia/Tokyo:20220717T170000
DTEND;TZID=Asia/Tokyo:20220717T210000
DTSTAMP:20260423T201038
CREATED:20220503T131807Z
LAST-MODIFIED:20220707T115510Z
UID:880-1658077200-1658091600@the-metal-slave.xn--eckrj8esee5k6c.com
SUMMARY:関内 KT Bears
DESCRIPTION:時間は未確定の為、決定後に更新いたします。
URL:http://the-metal-slave.xn--eckrj8esee5k6c.com/event/%e9%96%a2%e5%86%85-kt-bears/
LOCATION:関内 KT Bears\, 相生町１丁目１５ 地下1階\, 横浜市中区\, 神奈川県\, 231-0012\, 日本
ATTACH;FMTTYPE=image/jpeg:http://the-metal-slave.xn--eckrj8esee5k6c.com/wp-content/uploads/2022/05/S__26558469.jpg
END:VEVENT
END:VCALENDAR