BEGIN:VCALENDAR
VERSION:2.0
PRODID:-//The METAL SLAVE / ザ メタル スレイブ - ECPv5.12.3//NONSGML v1.0//EN
CALSCALE:GREGORIAN
METHOD:PUBLISH
X-WR-CALNAME:The METAL SLAVE / ザ メタル スレイブ
X-ORIGINAL-URL:http://the-metal-slave.xn--eckrj8esee5k6c.com
X-WR-CALDESC:Events for The METAL SLAVE / ザ メタル スレイブ
REFRESH-INTERVAL;VALUE=DURATION:PT1H
X-Robots-Tag:noindex
X-PUBLISHED-TTL:PT1H
BEGIN:VTIMEZONE
TZID:Asia/Tokyo
BEGIN:STANDARD
TZOFFSETFROM:+0900
TZOFFSETTO:+0900
TZNAME:JST
DTSTART:20220101T000000
END:STANDARD
END:VTIMEZONE
BEGIN:VEVENT
DTSTART;TZID=Asia/Tokyo:20220710T174500
DTEND;TZID=Asia/Tokyo:20220710T210000
DTSTAMP:20260423T201038
CREATED:20220317T104956Z
LAST-MODIFIED:20220705T124409Z
UID:841-1657475100-1657486800@the-metal-slave.xn--eckrj8esee5k6c.com
SUMMARY:綱島フライドポテト
DESCRIPTION:
URL:http://the-metal-slave.xn--eckrj8esee5k6c.com/event/%e7%b6%b1%e5%b3%b6%e3%83%95%e3%83%a9%e3%82%a4%e3%83%89%e3%83%9d%e3%83%86%e3%83%88/
LOCATION:綱島フライドポテト\, 樽町２丁目７−２１ リバーサイドマンション綱島 ２０４\, 横浜市港北区\, 神奈川県\, 222-0001\, 日本
ATTACH;FMTTYPE=image/jpeg:http://the-metal-slave.xn--eckrj8esee5k6c.com/wp-content/uploads/2022/03/S__26492963.jpg
END:VEVENT
END:VCALENDAR