BEGIN:VCALENDAR
VERSION:2.0
PRODID:-//The METAL SLAVE / ザ メタル スレイブ - ECPv5.12.3//NONSGML v1.0//EN
CALSCALE:GREGORIAN
METHOD:PUBLISH
X-WR-CALNAME:The METAL SLAVE / ザ メタル スレイブ
X-ORIGINAL-URL:http://the-metal-slave.xn--eckrj8esee5k6c.com
X-WR-CALDESC:Events for The METAL SLAVE / ザ メタル スレイブ
REFRESH-INTERVAL;VALUE=DURATION:PT1H
X-Robots-Tag:noindex
X-PUBLISHED-TTL:PT1H
BEGIN:VTIMEZONE
TZID:Asia/Tokyo
BEGIN:STANDARD
TZOFFSETFROM:+0900
TZOFFSETTO:+0900
TZNAME:JST
DTSTART:20220101T000000
END:STANDARD
END:VTIMEZONE
BEGIN:VEVENT
DTSTART;TZID=Asia/Tokyo:20220417T170000
DTEND;TZID=Asia/Tokyo:20220417T220000
DTSTAMP:20260424T003342
CREATED:20220111T075759Z
LAST-MODIFIED:20220324T041141Z
UID:650-1650214800-1650232800@the-metal-slave.xn--eckrj8esee5k6c.com
SUMMARY:LIVE CAFE 2000
DESCRIPTION:
URL:http://the-metal-slave.xn--eckrj8esee5k6c.com/event/live-cafe-2000/
LOCATION:LIVE CAFE 2000（横浜線：十日市場）\, 神奈川県横浜市緑区十日市場町８５５−３\, 日本
ATTACH;FMTTYPE=image/jpeg:http://the-metal-slave.xn--eckrj8esee5k6c.com/wp-content/uploads/2022/01/S__24403970.jpg
END:VEVENT
END:VCALENDAR