BEGIN:VCALENDAR
VERSION:2.0
PRODID:-//The METAL SLAVE / ザ メタル スレイブ - ECPv5.12.3//NONSGML v1.0//EN
CALSCALE:GREGORIAN
METHOD:PUBLISH
X-WR-CALNAME:The METAL SLAVE / ザ メタル スレイブ
X-ORIGINAL-URL:http://the-metal-slave.xn--eckrj8esee5k6c.com
X-WR-CALDESC:Events for The METAL SLAVE / ザ メタル スレイブ
REFRESH-INTERVAL;VALUE=DURATION:PT1H
X-Robots-Tag:noindex
X-PUBLISHED-TTL:PT1H
BEGIN:VTIMEZONE
TZID:Asia/Tokyo
BEGIN:STANDARD
TZOFFSETFROM:+0900
TZOFFSETTO:+0900
TZNAME:JST
DTSTART:20220101T000000
END:STANDARD
END:VTIMEZONE
BEGIN:VEVENT
DTSTART;TZID=Asia/Tokyo:20220403T190000
DTEND;TZID=Asia/Tokyo:20220403T220000
DTSTAMP:20260424T003342
CREATED:20220317T104552Z
LAST-MODIFIED:20220317T104552Z
UID:832-1649012400-1649023200@the-metal-slave.xn--eckrj8esee5k6c.com
SUMMARY:ROCK’N ROLL PARTY vol10
DESCRIPTION:
URL:http://the-metal-slave.xn--eckrj8esee5k6c.com/event/rockn-roll-party-vol10/
LOCATION:百合丘BCT永吉RRH\, 麻生区万福寺２丁目１０番４ 号 地下１０１号室 ＪＢマンション\, 川崎市\, 神奈川県\, 215-0004\, 日本
ATTACH;FMTTYPE=image/jpeg:http://the-metal-slave.xn--eckrj8esee5k6c.com/wp-content/uploads/2022/03/S__24297474.jpg
END:VEVENT
END:VCALENDAR