BEGIN:VCALENDAR
VERSION:2.0
PRODID:-//The METAL SLAVE / ザ メタル スレイブ - ECPv5.12.3//NONSGML v1.0//EN
CALSCALE:GREGORIAN
METHOD:PUBLISH
X-WR-CALNAME:The METAL SLAVE / ザ メタル スレイブ
X-ORIGINAL-URL:http://the-metal-slave.xn--eckrj8esee5k6c.com
X-WR-CALDESC:Events for The METAL SLAVE / ザ メタル スレイブ
REFRESH-INTERVAL;VALUE=DURATION:PT1H
X-Robots-Tag:noindex
X-PUBLISHED-TTL:PT1H
BEGIN:VTIMEZONE
TZID:Asia/Tokyo
BEGIN:STANDARD
TZOFFSETFROM:+0900
TZOFFSETTO:+0900
TZNAME:JST
DTSTART:20220101T000000
END:STANDARD
END:VTIMEZONE
BEGIN:VEVENT
DTSTART;TZID=Asia/Tokyo:20220227T130000
DTEND;TZID=Asia/Tokyo:20220227T160000
DTSTAMP:20260424T031419
CREATED:20220107T022938Z
LAST-MODIFIED:20220224T131534Z
UID:613-1645966800-1645977600@the-metal-slave.xn--eckrj8esee5k6c.com
SUMMARY:LIVE CAFE 2000（十日市場）
DESCRIPTION:コロナ蔓延のため、残念ですが、中止となりました \n別の予定を計画してますので、決まり次第お知らせします！ \n 
URL:http://the-metal-slave.xn--eckrj8esee5k6c.com/event/cross-street-dream-fes/
LOCATION:LIVE CAFE 2000（横浜線：十日市場）\, 神奈川県横浜市緑区十日市場町８５５−３\, 日本
ATTACH;FMTTYPE=image/jpeg:http://the-metal-slave.xn--eckrj8esee5k6c.com/wp-content/uploads/2022/01/20220227_timetable_h.jpg
END:VEVENT
END:VCALENDAR