BEGIN:VCALENDAR
VERSION:2.0
PRODID:-//The METAL SLAVE / ザ メタル スレイブ - ECPv5.12.3//NONSGML v1.0//EN
CALSCALE:GREGORIAN
METHOD:PUBLISH
X-WR-CALNAME:The METAL SLAVE / ザ メタル スレイブ
X-ORIGINAL-URL:http://the-metal-slave.xn--eckrj8esee5k6c.com
X-WR-CALDESC:Events for The METAL SLAVE / ザ メタル スレイブ
REFRESH-INTERVAL;VALUE=DURATION:PT1H
X-Robots-Tag:noindex
X-PUBLISHED-TTL:PT1H
BEGIN:VTIMEZONE
TZID:Asia/Tokyo
BEGIN:STANDARD
TZOFFSETFROM:+0900
TZOFFSETTO:+0900
TZNAME:JST
DTSTART:20220101T000000
END:STANDARD
END:VTIMEZONE
BEGIN:VEVENT
DTSTART;TZID=Asia/Tokyo:20220131T080000
DTEND;TZID=Asia/Tokyo:20220131T170000
DTSTAMP:20260424T031413
CREATED:20220131T144906Z
LAST-MODIFIED:20220131T144947Z
UID:758-1643616000-1643648400@the-metal-slave.xn--eckrj8esee5k6c.com
SUMMARY:The METAL SLAVE 1周年記念ライブ
DESCRIPTION:2022.4.17 (日)  \n横浜市緑区十日市場　Livecake 2000 \nにてTheMETAL SLAVE結成1周年記念ライブイベントを開催します(^^) 盛り上げますよ！^_^ \n  \n 
URL:http://the-metal-slave.xn--eckrj8esee5k6c.com/event/the-metal-slave-1%e5%91%a8%e5%b9%b4%e8%a8%98%e5%bf%b5%e3%83%a9%e3%82%a4%e3%83%96/
END:VEVENT
END:VCALENDAR