BEGIN:VCALENDAR
VERSION:2.0
PRODID:-//The METAL SLAVE / ザ メタル スレイブ - ECPv5.12.3//NONSGML v1.0//EN
CALSCALE:GREGORIAN
METHOD:PUBLISH
X-WR-CALNAME:The METAL SLAVE / ザ メタル スレイブ
X-ORIGINAL-URL:http://the-metal-slave.xn--eckrj8esee5k6c.com
X-WR-CALDESC:Events for The METAL SLAVE / ザ メタル スレイブ
REFRESH-INTERVAL;VALUE=DURATION:PT1H
X-Robots-Tag:noindex
X-PUBLISHED-TTL:PT1H
BEGIN:VTIMEZONE
TZID:Asia/Tokyo
BEGIN:STANDARD
TZOFFSETFROM:+0900
TZOFFSETTO:+0900
TZNAME:JST
DTSTART:20220101T000000
END:STANDARD
END:VTIMEZONE
BEGIN:VEVENT
DTSTART;TZID=Asia/Tokyo:20220807T170000
DTEND;TZID=Asia/Tokyo:20220807T210000
DTSTAMP:20260423T175146
CREATED:20220503T132157Z
LAST-MODIFIED:20221024T120027Z
UID:884-1659891600-1659906000@the-metal-slave.xn--eckrj8esee5k6c.com
SUMMARY:百合丘 BCT 永吉 RRH
DESCRIPTION:時間は未確定の為、確定後に更新します。
URL:http://the-metal-slave.xn--eckrj8esee5k6c.com/event/%e7%99%be%e5%90%88%e4%b8%98-bct-%e6%b0%b8%e5%90%89-rrh/
LOCATION:百合丘BCT永吉RRH\, 麻生区万福寺２丁目１０番４ 号 地下１０１号室 ＪＢマンション\, 川崎市\, 神奈川県\, 215-0004\, 日本
ATTACH;FMTTYPE=image/jpeg:http://the-metal-slave.xn--eckrj8esee5k6c.com/wp-content/uploads/2022/08/S__27230214.jpg
END:VEVENT
BEGIN:VEVENT
DTSTART;TZID=Asia/Tokyo:20220821T080000
DTEND;TZID=Asia/Tokyo:20220821T170000
DTSTAMP:20260423T175146
CREATED:20220530T124505Z
LAST-MODIFIED:20220621T115204Z
UID:905-1661068800-1661101200@the-metal-slave.xn--eckrj8esee5k6c.com
SUMMARY:立川 LiveBar HeartBeat
DESCRIPTION:詳細は後日公開します！
URL:http://the-metal-slave.xn--eckrj8esee5k6c.com/event/%e7%ab%8b%e5%b7%9d-livebar-heartbeat/
LOCATION:立川 LiveBar HeartBeat\, 錦町2-1-35 B1F\, 立川市\, 東京都\, 190-0022\, 日本
ATTACH;FMTTYPE=image/jpeg:http://the-metal-slave.xn--eckrj8esee5k6c.com/wp-content/uploads/2022/05/S__26083334.jpg
END:VEVENT
END:VCALENDAR