BEGIN:VCALENDAR
VERSION:2.0
PRODID:-//The METAL SLAVE / ザ メタル スレイブ - ECPv5.12.3//NONSGML v1.0//EN
CALSCALE:GREGORIAN
METHOD:PUBLISH
X-WR-CALNAME:The METAL SLAVE / ザ メタル スレイブ
X-ORIGINAL-URL:http://the-metal-slave.xn--eckrj8esee5k6c.com
X-WR-CALDESC:Events for The METAL SLAVE / ザ メタル スレイブ
REFRESH-INTERVAL;VALUE=DURATION:PT1H
X-Robots-Tag:noindex
X-PUBLISHED-TTL:PT1H
BEGIN:VTIMEZONE
TZID:Asia/Tokyo
BEGIN:STANDARD
TZOFFSETFROM:+0900
TZOFFSETTO:+0900
TZNAME:JST
DTSTART:20220101T000000
END:STANDARD
END:VTIMEZONE
BEGIN:VEVENT
DTSTART;TZID=Asia/Tokyo:20220306T120000
DTEND;TZID=Asia/Tokyo:20220306T170000
DTSTAMP:20260424T003825
CREATED:20220111T060240Z
LAST-MODIFIED:20220303T215207Z
UID:632-1646568000-1646586000@the-metal-slave.xn--eckrj8esee5k6c.com
SUMMARY:インバーハウス（横浜根岸）
DESCRIPTION: 
URL:http://the-metal-slave.xn--eckrj8esee5k6c.com/event/%e3%82%a4%e3%83%b3%e3%83%90%e3%83%bc%e3%83%8f%e3%82%a6%e3%82%b9%ef%bc%88%e6%a8%aa%e6%b5%9c%e6%a0%b9%e5%b2%b8%ef%bc%89-2/
LOCATION:インバーハウス（横浜根岸）\, 神奈川県横浜市中区根岸町３丁目１４２\, 日本
ATTACH;FMTTYPE=image/jpeg:http://the-metal-slave.xn--eckrj8esee5k6c.com/wp-content/uploads/2022/01/S__24002562.jpg
END:VEVENT
BEGIN:VEVENT
DTSTART;TZID=Asia/Tokyo:20220312T180000
DTEND;TZID=Asia/Tokyo:20220312T203000
DTSTAMP:20260424T003825
CREATED:20220111T075522Z
LAST-MODIFIED:20220303T215018Z
UID:642-1647108000-1647117000@the-metal-slave.xn--eckrj8esee5k6c.com
SUMMARY:伊勢屋（日の出町）
DESCRIPTION:The METAL SLAVE 19:00～
URL:http://the-metal-slave.xn--eckrj8esee5k6c.com/event/%e4%bc%8a%e5%8b%a2%e5%b1%8b%ef%bc%88%e6%97%a5%e3%81%ae%e5%87%ba%e7%94%ba%ef%bc%89/
LOCATION:ライブハウスISEYA（伊勢佐木町）\, 神奈川県横浜市中区伊勢佐木町６丁目１４６−５\, 日本
END:VEVENT
BEGIN:VEVENT
DTSTART;TZID=Asia/Tokyo:20220319T080000
DTEND;TZID=Asia/Tokyo:20220319T170000
DTSTAMP:20260424T003825
CREATED:20220116T065052Z
LAST-MODIFIED:20220303T214450Z
UID:694-1647676800-1647709200@the-metal-slave.xn--eckrj8esee5k6c.com
SUMMARY:ゴールデンカップ
DESCRIPTION: 
URL:http://the-metal-slave.xn--eckrj8esee5k6c.com/event/%e3%82%b4%e3%83%bc%e3%83%ab%e3%83%87%e3%83%b3%e3%82%ab%e3%83%83%e3%83%97/
LOCATION:ゴールデンカップ（横浜本牧）\, 神奈川県横浜市中区本牧町１丁目４６\, 日本
ATTACH;FMTTYPE=image/jpeg:http://the-metal-slave.xn--eckrj8esee5k6c.com/wp-content/uploads/2022/01/0a9ad5d175ac8fc31f08d61c01564b28.jpg
END:VEVENT
END:VCALENDAR