BEGIN:VCALENDAR
VERSION:2.0
PRODID:-//The METAL SLAVE / ザ メタル スレイブ - ECPv5.12.3//NONSGML v1.0//EN
CALSCALE:GREGORIAN
METHOD:PUBLISH
X-WR-CALNAME:The METAL SLAVE / ザ メタル スレイブ
X-ORIGINAL-URL:http://the-metal-slave.xn--eckrj8esee5k6c.com
X-WR-CALDESC:Events for The METAL SLAVE / ザ メタル スレイブ
REFRESH-INTERVAL;VALUE=DURATION:PT1H
X-Robots-Tag:noindex
X-PUBLISHED-TTL:PT1H
BEGIN:VTIMEZONE
TZID:Asia/Tokyo
BEGIN:STANDARD
TZOFFSETFROM:+0900
TZOFFSETTO:+0900
TZNAME:JST
DTSTART:20230101T000000
END:STANDARD
END:VTIMEZONE
BEGIN:VEVENT
DTSTART;TZID=Asia/Tokyo:20230226T180000
DTEND;TZID=Asia/Tokyo:20230226T180000
DTSTAMP:20260423T184913
CREATED:20221115T131357Z
LAST-MODIFIED:20221115T131459Z
UID:997-1677434400-1677434400@the-metal-slave.xn--eckrj8esee5k6c.com
SUMMARY:十日市場 Livecafe2000
DESCRIPTION:詳細は決定次第アップします！
URL:http://the-metal-slave.xn--eckrj8esee5k6c.com/event/%e5%8d%81%e6%97%a5%e5%b8%82%e5%a0%b4-livecafe2000-3/
LOCATION:LIVE CAFE 2000（横浜線：十日市場）\, 神奈川県横浜市緑区十日市場町８５５−３\, 日本
END:VEVENT
END:VCALENDAR