BEGIN:VCALENDAR
VERSION:2.0
PRODID:-//The METAL SLAVE / ザ メタル スレイブ - ECPv5.12.3//NONSGML v1.0//EN
CALSCALE:GREGORIAN
METHOD:PUBLISH
X-WR-CALNAME:The METAL SLAVE / ザ メタル スレイブ
X-ORIGINAL-URL:http://the-metal-slave.xn--eckrj8esee5k6c.com
X-WR-CALDESC:Events for The METAL SLAVE / ザ メタル スレイブ
REFRESH-INTERVAL;VALUE=DURATION:PT1H
X-Robots-Tag:noindex
X-PUBLISHED-TTL:PT1H
BEGIN:VTIMEZONE
TZID:Asia/Tokyo
BEGIN:STANDARD
TZOFFSETFROM:+0900
TZOFFSETTO:+0900
TZNAME:JST
DTSTART:20220101T000000
END:STANDARD
END:VTIMEZONE
BEGIN:VEVENT
DTSTART;TZID=Asia/Tokyo:20220821T080000
DTEND;TZID=Asia/Tokyo:20220821T170000
DTSTAMP:20260423T201141
CREATED:20220530T124505Z
LAST-MODIFIED:20220621T115204Z
UID:905-1661068800-1661101200@the-metal-slave.xn--eckrj8esee5k6c.com
SUMMARY:立川 LiveBar HeartBeat
DESCRIPTION:詳細は後日公開します！
URL:http://the-metal-slave.xn--eckrj8esee5k6c.com/event/%e7%ab%8b%e5%b7%9d-livebar-heartbeat/
LOCATION:立川 LiveBar HeartBeat\, 錦町2-1-35 B1F\, 立川市\, 東京都\, 190-0022\, 日本
ATTACH;FMTTYPE=image/jpeg:http://the-metal-slave.xn--eckrj8esee5k6c.com/wp-content/uploads/2022/05/S__26083334.jpg
END:VEVENT
BEGIN:VEVENT
DTSTART;TZID=Asia/Tokyo:20221105T183000
DTEND;TZID=Asia/Tokyo:20221105T213000
DTSTAMP:20260423T201141
CREATED:20221024T120754Z
LAST-MODIFIED:20221024T145202Z
UID:956-1667673000-1667683800@the-metal-slave.xn--eckrj8esee5k6c.com
SUMMARY:武蔵小山 LiveBar 6Grams
DESCRIPTION:18:30 open \n19:00～19:30 出演
URL:http://the-metal-slave.xn--eckrj8esee5k6c.com/event/%e6%ad%a6%e8%94%b5%e5%b0%8f%e5%b1%b1-livebar-6grams/
LOCATION:LiveBar 6Grams（武蔵小山）\, 小山3-27-3-B1F\, 東京都品川区\, 日本
ATTACH;FMTTYPE=image/jpeg:http://the-metal-slave.xn--eckrj8esee5k6c.com/wp-content/uploads/2022/10/S__29736997.jpg
END:VEVENT
BEGIN:VEVENT
DTSTART;TZID=Asia/Tokyo:20221113T150000
DTEND;TZID=Asia/Tokyo:20221113T210000
DTSTAMP:20260423T201141
CREATED:20221024T121005Z
LAST-MODIFIED:20221024T131914Z
UID:959-1668351600-1668373200@the-metal-slave.xn--eckrj8esee5k6c.com
SUMMARY:AGIT（相模原）
DESCRIPTION:15:00 open \n16:25～17:05　出演
URL:http://the-metal-slave.xn--eckrj8esee5k6c.com/event/agit%ef%bc%88%e7%9b%b8%e6%a8%a1%e5%8e%9f%ef%bc%89/
LOCATION:AGIT（相模原）\, 相模原市中央区 星ヶ丘2-14-11\, 日本
END:VEVENT
BEGIN:VEVENT
DTSTART;TZID=Asia/Tokyo:20221211T130000
DTEND;TZID=Asia/Tokyo:20221211T173000
DTSTAMP:20260423T201141
CREATED:20221024T121416Z
LAST-MODIFIED:20221024T131630Z
UID:965-1670763600-1670779800@the-metal-slave.xn--eckrj8esee5k6c.com
SUMMARY:新横浜LiT
DESCRIPTION:13:00 Open \n13:30~14:00　出演
URL:http://the-metal-slave.xn--eckrj8esee5k6c.com/event/%e6%96%b0%e6%a8%aa%e6%b5%9clit/
LOCATION:新横浜 LiT\, 新横浜3-1-4 プラスタリアビルB1\, 神奈川県横浜市港北区\, 222-0033\, 日本
ATTACH;FMTTYPE=image/jpeg:http://the-metal-slave.xn--eckrj8esee5k6c.com/wp-content/uploads/2022/10/S__29736990.jpg
END:VEVENT
BEGIN:VEVENT
DTSTART;TZID=Asia/Tokyo:20230115T080000
DTEND;TZID=Asia/Tokyo:20230115T170000
DTSTAMP:20260423T201141
CREATED:20221024T131521Z
LAST-MODIFIED:20221024T131521Z
UID:976-1673769600-1673802000@the-metal-slave.xn--eckrj8esee5k6c.com
SUMMARY:十日市場 Livecafe2000
DESCRIPTION:詳細は後日アップ予定
URL:http://the-metal-slave.xn--eckrj8esee5k6c.com/event/%e5%8d%81%e6%97%a5%e5%b8%82%e5%a0%b4-livecafe2000-2/
LOCATION:LIVE CAFE 2000（横浜線：十日市場）\, 神奈川県横浜市緑区十日市場町８５５−３\, 日本
END:VEVENT
BEGIN:VEVENT
DTSTART;TZID=Asia/Tokyo:20230122T080000
DTEND;TZID=Asia/Tokyo:20230122T170000
DTSTAMP:20260423T201141
CREATED:20221024T131806Z
LAST-MODIFIED:20221024T131806Z
UID:979-1674374400-1674406800@the-metal-slave.xn--eckrj8esee5k6c.com
SUMMARY:立川ハートビート
DESCRIPTION:昼 \n詳細は後日アップ予定
URL:http://the-metal-slave.xn--eckrj8esee5k6c.com/event/%e7%ab%8b%e5%b7%9d%e3%83%8f%e3%83%bc%e3%83%88%e3%83%93%e3%83%bc%e3%83%88/
LOCATION:立川 LiveBar HeartBeat\, 錦町2-1-35 B1F\, 立川市\, 東京都\, 190-0022\, 日本
END:VEVENT
BEGIN:VEVENT
DTSTART;TZID=Asia/Tokyo:20230226T180000
DTEND;TZID=Asia/Tokyo:20230226T180000
DTSTAMP:20260423T201141
CREATED:20221115T131357Z
LAST-MODIFIED:20221115T131459Z
UID:997-1677434400-1677434400@the-metal-slave.xn--eckrj8esee5k6c.com
SUMMARY:十日市場 Livecafe2000
DESCRIPTION:詳細は決定次第アップします！
URL:http://the-metal-slave.xn--eckrj8esee5k6c.com/event/%e5%8d%81%e6%97%a5%e5%b8%82%e5%a0%b4-livecafe2000-3/
LOCATION:LIVE CAFE 2000（横浜線：十日市場）\, 神奈川県横浜市緑区十日市場町８５５−３\, 日本
END:VEVENT
END:VCALENDAR